BEGIN:VCALENDAR
VERSION:2.0
PRODID:-//Chemins Pèlerins Normands - ECPv6.3.5//NONSGML v1.0//EN
CALSCALE:GREGORIAN
METHOD:PUBLISH
X-WR-CALNAME:Chemins Pèlerins Normands
X-ORIGINAL-URL:https://chemins-pelerins-normands.fr
X-WR-CALDESC:évènements pour Chemins Pèlerins Normands
REFRESH-INTERVAL;VALUE=DURATION:PT1H
X-Robots-Tag:noindex
X-PUBLISHED-TTL:PT1H
BEGIN:VTIMEZONE
TZID:Europe/Paris
BEGIN:DAYLIGHT
TZOFFSETFROM:+0100
TZOFFSETTO:+0200
TZNAME:CEST
DTSTART:20260329T010000
END:DAYLIGHT
BEGIN:STANDARD
TZOFFSETFROM:+0200
TZOFFSETTO:+0100
TZNAME:CET
DTSTART:20261025T010000
END:STANDARD
END:VTIMEZONE
BEGIN:VEVENT
DTSTART;TZID=Europe/Paris:20260321T090000
DTEND;TZID=Europe/Paris:20260321T170000
DTSTAMP:20260424T150502
CREATED:20260310T214639Z
LAST-MODIFIED:20260314T101025Z
UID:21176-1774083600-1774112400@chemins-pelerins-normands.fr
SUMMARY:SAMEDI 21/03/26 MARCHE DE L'EURE À ROUVRAY 27120
DESCRIPTION:Pour cette marche\, rendez-vous à 9h00 au parking de la mairie Chemin du Pavillon\, 27120 Rouvray \n\n\n\nDépart 9h15\, une boucle de 17 km nous emmènera pour un parcours avec une côte comme difficulté. En chemin nous verrons la tombe d’Aristide Briand\, la pyramide de Duguesclin et les bords de l’Eure. En cours de chemin nous trouverons un coin pour pique-niquer ensemble.  \n\n\n\nNous finirons cette marche par un verre de l’amitié avec quelques bonnes choses que chacun aura apportées. \n\n\n\nNe pas oublier de prendre de l’eau et ce qu’il faut pour se protéger du froid et de la pluie et surtout son pique-nique. Christian
URL:https://chemins-pelerins-normands.fr/activite/samedi-21-03-26-marche-de-leure-a-rouvray-27120
CATEGORIES:27,Marche mensuelle
END:VEVENT
BEGIN:VEVENT
DTSTART;TZID=Europe/Paris:20260328T090000
DTEND;TZID=Europe/Paris:20260328T140000
DTSTAMP:20260424T150502
CREATED:20260314T101926Z
LAST-MODIFIED:20260314T102104Z
UID:21180-1774688400-1774706400@chemins-pelerins-normands.fr
SUMMARY:SAMEDI 28/03/26 MARCHE DE LA SEINE-MARITIME AU MESNIL-SOUS-JUMIÈGES
DESCRIPTION:Chers pèlerins de Saint Jacques\, \n\n\n\nNous avons le plaisir de vous inviter à une randonnée au Mesnil-sous-Jumièges\, dans des paysages variés: forêt\, plaine\, bord du lac; puis nous passerons entre marais et vergers en longeant le chemin de halage. Nous pourrons également admirer le manoir d’Agnès Sorel. \n\n\n\nRendez-vous le 28 mars 2026 à 9 heures\, au Mesnil-sous-Jumièges\, sur le parking de l’école\, route du Manoir (D 65). Départ prévu à 9 heures 15. \n\n\n\nParticularités du chemin: une côte dans la forêt\, 40 mètres de dénivelé; végétation dense sur cette montée; pantalons et manches longues conseillés. Le reste du chemin est plat et pratiquable. La boucle fait 10 km. \n\n\n\nNous terminerons la matinée par les plats savoureux apportés par chacun. Pensez à prendre de l’eau\, des vêtements adaptés à la météo et de bonnes chaussures. \n\n\n\nVos réponses seront les bienvenues. \n\n\n\nPensez à covoiturer: dites-nous si vous avez besoin d’une place\, ou si vous avez des places à proposer. Exemple: Rouen vers le Mesnil-sous-Jumièges = 12 € aller-retour pour le véhicule. \n\n\n\nA bientôt ! Chantal 
URL:https://chemins-pelerins-normands.fr/activite/samedi-28-03-26-marche-de-la-seine-maritime-au-mesnil-sous-jumieges
CATEGORIES:76,Marche mensuelle
END:VEVENT
END:VCALENDAR