BEGIN:VCALENDAR
VERSION:2.0
PRODID:-//Chemins Pèlerins Normands - ECPv6.3.5//NONSGML v1.0//EN
CALSCALE:GREGORIAN
METHOD:PUBLISH
X-ORIGINAL-URL:https://chemins-pelerins-normands.fr
X-WR-CALDESC:évènements pour Chemins Pèlerins Normands
REFRESH-INTERVAL;VALUE=DURATION:PT1H
X-Robots-Tag:noindex
X-PUBLISHED-TTL:PT1H
BEGIN:VTIMEZONE
TZID:Europe/Paris
BEGIN:DAYLIGHT
TZOFFSETFROM:+0100
TZOFFSETTO:+0200
TZNAME:CEST
DTSTART:20260329T010000
END:DAYLIGHT
BEGIN:STANDARD
TZOFFSETFROM:+0200
TZOFFSETTO:+0100
TZNAME:CET
DTSTART:20261025T010000
END:STANDARD
END:VTIMEZONE
BEGIN:VEVENT
DTSTART;TZID=Europe/Paris:20260117T133000
DTEND;TZID=Europe/Paris:20260117T180000
DTSTAMP:20260424T120834
CREATED:20251123T214237Z
LAST-MODIFIED:20251123T214238Z
UID:21092-1768656600-1768672800@chemins-pelerins-normands.fr
SUMMARY:SAMEDI 17/01/2026 GOÛTER DE LA SEINE-MARITIME
DESCRIPTION:Bonjour chers amis pèlerins\, \n\n\n\nRetenez dès à présent la date du samedi 17 janvier 2026: ce sera le goûter traditionnel de début d’année de l’association\, pour la Seine-Maritime.  Il aura lieu\, comme l’an passé\, dans les locaux de la paroisse Saint Etienne\, à Saint Etienne du Rouvray. Les détails seront donnés ultérieurement. \n\n\n\nA bientôt\, amitiés jacquaires. \n\n\n\nChantal MATHIEU
URL:https://chemins-pelerins-normands.fr/activite/samedi-17-01-2026-gouter-de-la-seine-maritime
CATEGORIES:76,Goûter
END:VEVENT
END:VCALENDAR