BEGIN:VCALENDAR
VERSION:2.0
PRODID:-//Chemins Pèlerins Normands - ECPv6.3.5//NONSGML v1.0//EN
CALSCALE:GREGORIAN
METHOD:PUBLISH
X-ORIGINAL-URL:https://chemins-pelerins-normands.fr
X-WR-CALDESC:évènements pour Chemins Pèlerins Normands
REFRESH-INTERVAL;VALUE=DURATION:PT1H
X-Robots-Tag:noindex
X-PUBLISHED-TTL:PT1H
BEGIN:VTIMEZONE
TZID:Europe/Paris
BEGIN:DAYLIGHT
TZOFFSETFROM:+0100
TZOFFSETTO:+0200
TZNAME:CEST
DTSTART:20260329T010000
END:DAYLIGHT
BEGIN:STANDARD
TZOFFSETFROM:+0200
TZOFFSETTO:+0100
TZNAME:CET
DTSTART:20261025T010000
END:STANDARD
END:VTIMEZONE
BEGIN:VEVENT
DTSTART;TZID=Europe/Paris:20260408T093000
DTEND;TZID=Europe/Paris:20260408T180000
DTSTAMP:20260424T133116
CREATED:20260406T200757Z
LAST-MODIFIED:20260406T200759Z
UID:21195-1775640600-1775671200@chemins-pelerins-normands.fr
SUMMARY:MERCREDI 08/04/2026 MARCHE DE LA MANCHE
DESCRIPTION:Je vous propose une marche entre St lô et Carentan : \n\n\n\n   – RDV 9h30 au parking de covoiturage à la sortie 9 (St Fromond\, Graignes) à mi-chemin entre St Lô et Carentan. \n\n\n\n   – Randonnée le matin d’une dizaine de kms entre campagne et marais beaucoup de cigognes dans leurs nids. \n\n\n\n   – Pique-nique tiré du sac sur les bords de la Vire. \n\n\n\n   – Randonnée l’après-midi d’environ 13 kms au départ de Graignes\, principalement dans les marais\, là aussi pas mal de cigognes. \n\n\n\n   – petit goûter avant de se séparer. \n\n\n\n   Très peu de dénivelé. Possibilité de ne faire que le matin ou l’après-midi. \n\n\n\n   N’hésitez pas à inviter des personnes en dehors de l’association. Thierry Mariel et Benoit Vernier
URL:https://chemins-pelerins-normands.fr/activite/mercredi-08-04-2026-marche-de-la-manche
CATEGORIES:50,Marche mensuelle
END:VEVENT
END:VCALENDAR